BEGIN:VCALENDAR
VERSION:2.0
PRODID:-//Kold Kare International - ECPv5.11.0//NONSGML v1.0//EN
CALSCALE:GREGORIAN
METHOD:PUBLISH
X-WR-CALNAME:Kold Kare International
X-ORIGINAL-URL:https://koldkare.biz
X-WR-CALDESC:Events for Kold Kare International
BEGIN:VTIMEZONE
TZID:UTC
BEGIN:STANDARD
TZOFFSETFROM:+0000
TZOFFSETTO:+0000
TZNAME:UTC
DTSTART:20180101T000000
END:STANDARD
END:VTIMEZONE
BEGIN:VEVENT
DTSTART;VALUE=DATE:20180415
DTEND;VALUE=DATE:20181217
DTSTAMP:20260423T232014
CREATED:20171006T130210Z
LAST-MODIFIED:20221230T072053Z
UID:2356-1523750400-1545004799@koldkare.biz
SUMMARY:New Central Unit
DESCRIPTION:It’s time to install the New Central A/C Unit of your dreams! \nFree 5 years parts and labor warranty with purchase 299$ Value!
URL:https://koldkare.biz/special-offer/new-central-unit/
CATEGORIES:Special Offers
ATTACH;FMTTYPE=image/jpeg:https://koldkare.biz/wp-content/uploads/2018/04/gallery-6.jpg
END:VEVENT
BEGIN:VEVENT
DTSTART;TZID=UTC:20180501T080000
DTEND;TZID=UTC:20180701T170000
DTSTAMP:20260423T232014
CREATED:20171006T131626Z
LAST-MODIFIED:20221230T072053Z
UID:2360-1525161600-1530464400@koldkare.biz
SUMMARY:Check your system for $70 per unit
DESCRIPTION:We will check your systems components\, install new filters up to 1″ thick\, vacuum where needed\, and start up your gas furnace and perform an electronic gas test for Carbon Monoxide.
URL:https://koldkare.biz/special-offer/check-your-system-for-70-per-unit/
CATEGORIES:Special Offers
ATTACH;FMTTYPE=image/jpeg:https://koldkare.biz/wp-content/uploads/2018/04/post-summer.jpg
END:VEVENT
END:VCALENDAR